BEGIN:VCALENDAR
VERSION:2.0
PRODID:-//Rap Reporter - ECPv5.11.0//NONSGML v1.0//EN
CALSCALE:GREGORIAN
METHOD:PUBLISH
X-WR-CALNAME:Rap Reporter
X-ORIGINAL-URL:https://rapreporter.ch
X-WR-CALDESC:évènements pour Rap Reporter
BEGIN:VTIMEZONE
TZID:Europe/Zurich
BEGIN:DAYLIGHT
TZOFFSETFROM:+0100
TZOFFSETTO:+0200
TZNAME:CEST
DTSTART:20200329T010000
END:DAYLIGHT
BEGIN:STANDARD
TZOFFSETFROM:+0200
TZOFFSETTO:+0100
TZNAME:CET
DTSTART:20201025T010000
END:STANDARD
END:VTIMEZONE
BEGIN:VEVENT
DTSTART;VALUE=DATE:20200717
DTEND;VALUE=DATE:20200718
DTSTAMP:20260426T003557
CREATED:20200720T110446Z
LAST-MODIFIED:20200720T110446Z
UID:9902-1594944000-1595030399@rapreporter.ch
SUMMARY:Kidd Samu & 1MillionU$D - Antivirus
DESCRIPTION:
URL:https://rapreporter.ch/event/kidd-samu-1millionud-antivirus/
CATEGORIES:Album,R&B International
END:VEVENT
END:VCALENDAR