BEGIN:VCALENDAR
VERSION:2.0
PRODID:-//Rap Reporter - ECPv5.11.0//NONSGML v1.0//EN
CALSCALE:GREGORIAN
METHOD:PUBLISH
X-WR-CALNAME:Rap Reporter
X-ORIGINAL-URL:https://rapreporter.ch
X-WR-CALDESC:évènements pour Rap Reporter
BEGIN:VTIMEZONE
TZID:Europe/Zurich
BEGIN:DAYLIGHT
TZOFFSETFROM:+0100
TZOFFSETTO:+0200
TZNAME:CEST
DTSTART:20200329T010000
END:DAYLIGHT
BEGIN:STANDARD
TZOFFSETFROM:+0200
TZOFFSETTO:+0100
TZNAME:CET
DTSTART:20201025T010000
END:STANDARD
END:VTIMEZONE
BEGIN:VEVENT
DTSTART;VALUE=DATE:20200724
DTEND;VALUE=DATE:20200725
DTSTAMP:20260424T071002
CREATED:20200723T122528Z
LAST-MODIFIED:20201105T134310Z
UID:9909-1595548800-1595635199@rapreporter.ch
SUMMARY:The Kid LAROI - F*CK LOVE
DESCRIPTION:
URL:https://rapreporter.ch/event/the-kid-laroi-fck-love/
CATEGORIES:Album,Rap International
END:VEVENT
END:VCALENDAR