BEGIN:VCALENDAR
VERSION:2.0
PRODID:-//Rap Reporter - ECPv5.11.0//NONSGML v1.0//EN
CALSCALE:GREGORIAN
METHOD:PUBLISH
X-WR-CALNAME:Rap Reporter
X-ORIGINAL-URL:https://rapreporter.ch
X-WR-CALDESC:évènements pour Rap Reporter
BEGIN:VTIMEZONE
TZID:Europe/Zurich
BEGIN:DAYLIGHT
TZOFFSETFROM:+0100
TZOFFSETTO:+0200
TZNAME:CEST
DTSTART:20200329T010000
END:DAYLIGHT
BEGIN:STANDARD
TZOFFSETFROM:+0200
TZOFFSETTO:+0100
TZNAME:CET
DTSTART:20201025T010000
END:STANDARD
END:VTIMEZONE
BEGIN:VEVENT
DTSTART;VALUE=DATE:20200723
DTEND;VALUE=DATE:20200724
DTSTAMP:20260424T164049
CREATED:20200921T114912Z
LAST-MODIFIED:20200921T114912Z
UID:11613-1595462400-1595548799@rapreporter.ch
SUMMARY:Tone Tone - 11627\, Vol. 2
DESCRIPTION:
URL:https://rapreporter.ch/event/tone-tone-11627-vol-2/
CATEGORIES:Mixtape,Rap US
END:VEVENT
END:VCALENDAR