BEGIN:VCALENDAR
VERSION:2.0
PRODID:-//Rap Reporter - ECPv5.11.0//NONSGML v1.0//EN
CALSCALE:GREGORIAN
METHOD:PUBLISH
X-WR-CALNAME:Rap Reporter
X-ORIGINAL-URL:https://rapreporter.ch
X-WR-CALDESC:évènements pour Rap Reporter
BEGIN:VTIMEZONE
TZID:Europe/Zurich
BEGIN:DAYLIGHT
TZOFFSETFROM:+0100
TZOFFSETTO:+0200
TZNAME:CEST
DTSTART:20200329T010000
END:DAYLIGHT
BEGIN:STANDARD
TZOFFSETFROM:+0200
TZOFFSETTO:+0100
TZNAME:CET
DTSTART:20201025T010000
END:STANDARD
END:VTIMEZONE
BEGIN:VEVENT
DTSTART;VALUE=DATE:20200722
DTEND;VALUE=DATE:20200723
DTSTAMP:20260424T230807
CREATED:20210513T213640Z
LAST-MODIFIED:20210513T213640Z
UID:19635-1595376000-1595462399@rapreporter.ch
SUMMARY:Vonje' - UNDER RATED
DESCRIPTION:
URL:https://rapreporter.ch/event/vonje-under-rated/
CATEGORIES:Projet,Rap US
END:VEVENT
END:VCALENDAR